Workbook

Sheet методология
D5: =главная!D1 -> Финмодель Бизнес-Проекта
D6: =главная!D2 -> Бизнес-Проект: Микро кредитная компания, B2B-займы
D7: МЕТОДОЛОГИЯ
F10: место в документе
F11: лист | H11: ячейки | L11: описание
F14: для всех листов | G14: * | L14: ячейки для ручного внесения данных
F16: для всех листов | G16: * | I16: ^ | L16: ячейки для внесения данных из выпадающих списков из листа "справочники"
F18: Главная | H18: T9 | L18: из выпадающего списка необходимо выбрать месяц старта проекта
H20: T11 | L20: необходимо задать вручную горизонт расчетов финмодели в количестве месяцев, максимум может быть задано 30 месяцев
H22: T14 | L22: необходимо из выпадающего списка выбрать либо "месяц", либо "нквартал" - период капитализации начисления процентов
H24: стр.17,18,19,21 | L24: Начиная со строки 22 и по строку 175 в модели задаются и рассчитываются ключевые операционные показатели деятельности микро кредитной компании в разрезе по четырем тарифам. В строках 17,18,19 и 21 производится итоговое суммирование по четырем тарифам таких показателей, как процентный доход, дефолты по телу и %%, а также поток полученных процентов.
H26: стр.22-59 | L26: Блок строк с 22-той по 59-тую это типовой блок строк, в рамках которого задаются исходные и рассчитываются результирующие показатели операционной деятельности в разрезе одного тарифа - в данном случае 1-ого. В модели предусмотрено 4 тарифа, и если необходимо добавить еще один, то достаточно блок строк 4-ого тарифа 136-173 скопировать ниже строки 173.
H28: T23 | L28: здесь пользователь вручную указывает кол-во типовых займов выданных по тарифу 1 в первый месяц моделирования
H30: T25 | L30: из выпадающего списка необходимо выбрать тип динамики прироста месяц к месяцу количества выдаваемых займов: линейная, геометрическая или экспоненциальная прогрессии
H32: T27 | L32: необходимо задать вручную коэффициент прироста для выбранной на предыдущем шаге прогрессии
H34: стр.29 | L34: В этой строке производится расчет динамики и количества для каждого месяца выдаваемых займов на основе ранее заданных параметров
H36: T31 | L36: Здесь необходимо задать средний размер займа в первый месяц
H38: T33 | L38: Здесь пользователю предлагается задать % прироста месяц к месяцу увеличения среднего размера выдаваемого займа
H40: стр.35 | L40: Производится расчет для каждого месяца среднего размера займа в рублях.
H42: стр.37 | L42: Производится расчет потока выдачи займов, путем перемножения стр.29 (кол-во займов) на стр.35 (средний размер займа)
... H54: стр 54,56,58 | L54: В этих строках производится соответственно расчет потока дефолтов по %%, поток начисления %% и поток поступления %%
L56: Далее аналогично рассчитываются показатели по траифам 2,3 и 4
H58: стр176-206 | L58: в этом типовом блоке строк задаются доли переменных расходов в доходах каждого тарифа и соответственно рассчитываются переменные расходы
H60: стр213-317 | L60: в этом типовом блоке строк по аналогии с тем как были выше заданы потоки выдачи займов в блоках соответствующих тарифов задаются постоянные расходы в разрезе статей
L62: В дальнейших строках по аналогии с вышеизложенным материалом задаются и рассчитываются оставшиеся параметры проекта - по принципу "как пишется, так и понимается"
F65: Отчет | L65: здесь в ежемесячной детализации сформирован отчет PL
L66: и расчет нескольких дополнительных ключевых показателей проекта
F68: справочники | L68: здесь собраны все выпадающие списки финмодели

Sheet Отчет
B1: Ключевые показатели проекта | F1: =главная!D2 -> Бизнес-Проект: Микро кредитная компания, B2B-займы | AK1: контроль
B2: в рублях | D2: ИТОГО | F2: =главная!AA$6 | G2: =главная!AB$6 | H2: =главная!AC$6 | I2: =главная!AD$6 | J2: =главная!AE$6 | K2: =главная!AF$6 | L2: =главная!AG$6 | M2: =главная!AH$6 | ... AI2: =главная!BD$6
B3: =главная!$H$17 -> Процентный доход | D3: =SUM($E3:$AJ3) -> 0 | F3: =SUMIFS(главная!AA:AA,главная!$H:$H,$B3,главная!$N:$N,"итого") -> 0 | G3: =SUMIFS(главная!AB:AB,главная!$H:$H,$B3,главная!$N:$N,"итого") -> 0 | H3: =SUMIFS(главная!AC:AC,главная!$H:$H,$B3,главная!$N:$N,"итого") -> 0 | I3: =SUMIFS(главная!AD:AD,главная!$H:$H,$B3,главная!$N:$N,"итого") -> 0 | J3: =SUMIFS(главная!AE:AE,главная!$H:$H,$B3,главная!$N:$N,"итого") -> 0 | K3: =SUMIFS(главная!AF:AF,главная!$H:$H,$B3,главная!$N:$N,"итого") -> 0 | L3: =SUMIFS(главная!AG:AG,главная!$H:$H,$B3,главная!$N:$N,"итого") -> 0 | M3: =SUMIFS(главная!AH:AH,главная!$H:$H,$B3,главная!$N:$N,"итого") -> 0 | N3: =SUMIFS(главная!AI:AI,главная!$H:$H,$B3,главная!$N:$N,"итого") -> 0 | O3: =SUMIFS(главная!AJ:AJ,главная!$H:$H,$B3,главная!$N:$N,"итого") -> 0 | P3: =SUMIFS(главная!AK:AK,главная!$H:$H,$B3,главная!$N:$N,"итого") -> 0 | Q3: =SUMIFS(главная!AL:AL,главная!$H:$H,$B3,главная!$N:$N,"итого") -> 0 | R3: =SUMIFS(главная!AM:AM,главная!$H:$H,$B3,главная!$N:$N,"итого") -> 0 | S3: =SUMIFS(главная!AN:AN,главная!$H:$H,$B3,главная!$N:$N,"итого") -> 0 | T3: =SUMIFS(главная!AO:AO,главная!$H:$H,$B3,главная!$N:$N,"итого") -> 0 | U3: =SUMIFS(главная!AP:AP,главная!$H:$H,$B3,главная!$N:$N,"итого") -> 0 | V3: =SUMIFS(главная!AQ:AQ,главная!$H:$H,$B3,главная!$N:$N,"итого") -> 0 | W3: =SUMIFS(главная!AR:AR,главная!$H:$H,$B3,главная!$N:$N,"итого") -> 0 | X3: =SUMIFS(главная!AS:AS,главная!$H:$H,$B3,главная!$N:$N,"итого") -> 0 | Y3: =SUMIFS(главная!AT:AT,главная!$H:$H,$B3,главная!$N:$N,"итого") -> 0 | Z3: =SUMIFS(главная!AU:AU,главная!$H:$H,$B3,главная!$N:$N,"итого") -> 0 | AA3: =SUMIFS(главная!AV:AV,главная!$H:$H,$B3,главная!$N:$N,"итого") -> 0 | AB3: =SUMIFS(главная!AW:AW,главная!$H:$H,$B3,главная!$N:$N,"итого") -> 0 | AC3: =SUMIFS(главная!AX:AX,главная!$H:$H,$B3,главная!$N:$N,"итого") -> 0 | AD3: =SUMIFS(главная!AY:AY,главная!$H:$H,$B3,главная!$N:$N,"итого") -> 0 | AE3: =SUMIFS(главная!AZ:AZ,главная!$H:$H,$B3,главная!$N:$N,"итого") -> 0 | AF3: =SUMIFS(главная!BA:BA,главная!$H:$H,$B3,главная!$N:$N,"итого") -> 0 | AG3: =SUMIFS(главная!BB:BB,главная!$H:$H,$B3,главная!$N:$N,"итого") -> 0 | AH3: =SUMIFS(главная!BC:BC,главная!$H:$H,$B3,главная!$N:$N,"итого") -> 0 | AI3: =SUMIFS(главная!BD:BD,главная!$H:$H,$B3,главная!$N:$N,"итого") -> 0
B4: в т.ч. | AK4: =SUM(F3:AI3)-SUM(F4:AI8) -> 0
B5: =главная!$N$56 -> Начисленные %% по Тарифу-1 | D5: =SUM($E5:$AJ5) -> 0 | F5: =SUMIFS(главная!AA:AA,главная!$N:$N,$B5) -> 0 | G5: =SUMIFS(главная!AB:AB,главная!$N:$N,$B5) -> 0 | H5: =SUMIFS(главная!AC:AC,главная!$N:$N,$B5) -> 0 | I5: =SUMIFS(главная!AD:AD,главная!$N:$N,$B5) -> 0 | J5: =SUMIFS(главная!AE:AE,главная!$N:$N,$B5) -> 0 | K5: =SUMIFS(главная!AF:AF,главная!$N:$N,$B5) -> 0 | L5: =SUMIFS(главная!AG:AG,главная!$N:$N,$B5) -> 0 | M5: =SUMIFS(главная!AH:AH,главная!$N:$N,$B5) -> 0 | N5: =SUMIFS(главная!AI:AI,главная!$N:$N,$B5) -> 0 | O5: =SUMIFS(главная!AJ:AJ,главная!$N:$N,$B5) -> 0 | P5: =SUMIFS(главная!AK:AK,главная!$N:$N,$B5) -> 0 | Q5: =SUMIFS(главная!AL:AL,главная!$N:$N,$B5) -> 0 | R5: =SUMIFS(главная!AM:AM,главная!$N:$N,$B5) -> 0 | S5: =SUMIFS(главная!AN:AN,главная!$N:$N,$B5) -> 0 | T5: =SUMIFS(главная!AO:AO,главная!$N:$N,$B5) -> 0 | U5: =SUMIFS(главная!AP:AP,главная!$N:$N,$B5) -> 0 | V5: =SUMIFS(главная!AQ:AQ,главная!$N:$N,$B5) -> 0 | W5: =SUMIFS(главная!AR:AR,главная!$N:$N,$B5) -> 0 | X5: =SUMIFS(главная!AS:AS,главная!$N:$N,$B5) -> 0 | Y5: =SUMIFS(главная!AT:AT,главная!$N:$N,$B5) -> 0 | Z5: =SUMIFS(главная!AU:AU,главная!$N:$N,$B5) -> 0 | AA5: =SUMIFS(главная!AV:AV,главная!$N:$N,$B5) -> 0 | AB5: =SUMIFS(главная!AW:AW,главная!$N:$N,$B5) -> 0 | AC5: =SUMIFS(главная!AX:AX,главная!$N:$N,$B5) -> 0 | AD5: =SUMIFS(главная!AY:AY,главная!$N:$N,$B5) -> 0 | AE5: =SUMIFS(главная!AZ:AZ,главная!$N:$N,$B5) -> 0 | AF5: =SUMIFS(главная!BA:BA,главная!$N:$N,$B5) -> 0 | AG5: =SUMIFS(главная!BB:BB,главная!$N:$N,$B5) -> 0 | AH5: =SUMIFS(главная!BC:BC,главная!$N:$N,$B5) -> 0 | AI5: =SUMIFS(главная!BD:BD,главная!$N:$N,$B5) -> 0
B6: =главная!$N$94 -> Начисленные %% по Тарифу-2 | D6: =SUM($E6:$AJ6) -> 0 | F6: =SUMIFS(главная!AA:AA,главная!$N:$N,$B6) -> 0 | G6: =SUMIFS(главная!AB:AB,главная!$N:$N,$B6) -> 0 | H6: =SUMIFS(главная!AC:AC,главная!$N:$N,$B6) -> 0 | I6: =SUMIFS(главная!AD:AD,главная!$N:$N,$B6) -> 0 | J6: =SUMIFS(главная!AE:AE,главная!$N:$N,$B6) -> 0 | K6: =SUMIFS(главная!AF:AF,главная!$N:$N,$B6) -> 0 | L6: =SUMIFS(главная!AG:AG,главная!$N:$N,$B6) -> 0 | M6: =SUMIFS(главная!AH:AH,главная!$N:$N,$B6) -> 0 | N6: =SUMIFS(главная!AI:AI,главная!$N:$N,$B6) -> 0 | O6: =SUMIFS(главная!AJ:AJ,главная!$N:$N,$B6) -> 0 | P6: =SUMIFS(главная!AK:AK,главная!$N:$N,$B6) -> 0 | Q6: =SUMIFS(главная!AL:AL,главная!$N:$N,$B6) -> 0 | R6: =SUMIFS(главная!AM:AM,главная!$N:$N,$B6) -> 0 | S6: =SUMIFS(главная!AN:AN,главная!$N:$N,$B6) -> 0 | T6: =SUMIFS(главная!AO:AO,главная!$N:$N,$B6) -> 0 | U6: =SUMIFS(главная!AP:AP,главная!$N:$N,$B6) -> 0 | V6: =SUMIFS(главная!AQ:AQ,главная!$N:$N,$B6) -> 0 | W6: =SUMIFS(главная!AR:AR,главная!$N:$N,$B6) -> 0 | X6: =SUMIFS(главная!AS:AS,главная!$N:$N,$B6) -> 0 | Y6: =SUMIFS(главная!AT:AT,главная!$N:$N,$B6) -> 0 | Z6: =SUMIFS(главная!AU:AU,главная!$N:$N,$B6) -> 0 | AA6: =SUMIFS(главная!AV:AV,главная!$N:$N,$B6) -> 0 | AB6: =SUMIFS(главная!AW:AW,главная!$N:$N,$B6) -> 0 | AC6: =SUMIFS(главная!AX:AX,главная!$N:$N,$B6) -> 0 | AD6: =SUMIFS(главная!AY:AY,главная!$N:$N,$B6) -> 0 | AE6: =SUMIFS(главная!AZ:AZ,главная!$N:$N,$B6) -> 0 | AF6: =SUMIFS(главная!BA:BA,главная!$N:$N,$B6) -> 0 | AG6: =SUMIFS(главная!BB:BB,главная!$N:$N,$B6) -> 0 | AH6: =SUMIFS(главная!BC:BC,главная!$N:$N,$B6) -> 0 | AI6: =SUMIFS(главная!BD:BD,главная!$N:$N,$B6) -> 0
B7: =главная!$N$132 -> Начисленные %% по Тарифу-3 | D7: =SUM($E7:$AJ7) -> 0 | F7: =SUMIFS(главная!AA:AA,главная!$N:$N,$B7) -> 0 | G7: =SUMIFS(главная!AB:AB,главная!$N:$N,$B7) -> 0 | H7: =SUMIFS(главная!AC:AC,главная!$N:$N,$B7) -> 0 | I7: =SUMIFS(главная!AD:AD,главная!$N:$N,$B7) -> 0 | J7: =SUMIFS(главная!AE:AE,главная!$N:$N,$B7) -> 0 | K7: =SUMIFS(главная!AF:AF,главная!$N:$N,$B7) -> 0 | L7: =SUMIFS(главная!AG:AG,главная!$N:$N,$B7) -> 0 | M7: =SUMIFS(главная!AH:AH,главная!$N:$N,$B7) -> 0 | N7: =SUMIFS(главная!AI:AI,главная!$N:$N,$B7) -> 0 | O7: =SUMIFS(главная!AJ:AJ,главная!$N:$N,$B7) -> 0 | P7: =SUMIFS(главная!AK:AK,главная!$N:$N,$B7) -> 0 | Q7: =SUMIFS(главная!AL:AL,главная!$N:$N,$B7) -> 0 | R7: =SUMIFS(главная!AM:AM,главная!$N:$N,$B7) -> 0 | S7: =SUMIFS(главная!AN:AN,главная!$N:$N,$B7) -> 0 | T7: =SUMIFS(главная!AO:AO,главная!$N:$N,$B7) -> 0 | U7: =SUMIFS(главная!AP:AP,главная!$N:$N,$B7) -> 0 | V7: =SUMIFS(главная!AQ:AQ,главная!$N:$N,$B7) -> 0 | W7: =SUMIFS(главная!AR:AR,главная!$N:$N,$B7) -> 0 | X7: =SUMIFS(главная!AS:AS,главная!$N:$N,$B7) -> 0 | Y7: =SUMIFS(главная!AT:AT,главная!$N:$N,$B7) -> 0 | Z7: =SUMIFS(главная!AU:AU,главная!$N:$N,$B7) -> 0 | AA7: =SUMIFS(главная!AV:AV,главная!$N:$N,$B7) -> 0 | AB7: =SUMIFS(главная!AW:AW,главная!$N:$N,$B7) -> 0 | AC7: =SUMIFS(главная!AX:AX,главная!$N:$N,$B7) -> 0 | AD7: =SUMIFS(главная!AY:AY,главная!$N:$N,$B7) -> 0 | AE7: =SUMIFS(главная!AZ:AZ,главная!$N:$N,$B7) -> 0 | AF7: =SUMIFS(главная!BA:BA,главная!$N:$N,$B7) -> 0 | AG7: =SUMIFS(главная!BB:BB,главная!$N:$N,$B7) -> 0 | AH7: =SUMIFS(главная!BC:BC,главная!$N:$N,$B7) -> 0 | AI7: =SUMIFS(главная!BD:BD,главная!$N:$N,$B7) -> 0
B8: =главная!$N$170 -> Начисленные %% по Тарифу-4 | D8: =SUM($E8:$AJ8) -> 0 | F8: =SUMIFS(главная!AA:AA,главная!$N:$N,$B8) -> 0 | G8: =SUMIFS(главная!AB:AB,главная!$N:$N,$B8) -> 0 | H8: =SUMIFS(главная!AC:AC,главная!$N:$N,$B8) -> 0 | I8: =SUMIFS(главная!AD:AD,главная!$N:$N,$B8) -> 0 | J8: =SUMIFS(главная!AE:AE,главная!$N:$N,$B8) -> 0 | K8: =SUMIFS(главная!AF:AF,главная!$N:$N,$B8) -> 0 | L8: =SUMIFS(главная!AG:AG,главная!$N:$N,$B8) -> 0 | M8: =SUMIFS(главная!AH:AH,главная!$N:$N,$B8) -> 0 | N8: =SUMIFS(главная!AI:AI,главная!$N:$N,$B8) -> 0 | O8: =SUMIFS(главная!AJ:AJ,главная!$N:$N,$B8) -> 0 | P8: =SUMIFS(главная!AK:AK,главная!$N:$N,$B8) -> 0 | Q8: =SUMIFS(главная!AL:AL,главная!$N:$N,$B8) -> 0 | R8: =SUMIFS(главная!AM:AM,главная!$N:$N,$B8) -> 0 | S8: =SUMIFS(главная!AN:AN,главная!$N:$N,$B8) -> 0 | T8: =SUMIFS(главная!AO:AO,главная!$N:$N,$B8) -> 0 | U8: =SUMIFS(главная!AP:AP,главная!$N:$N,$B8) -> 0 | V8: =SUMIFS(главная!AQ:AQ,главная!$N:$N,$B8) -> 0 | W8: =SUMIFS(главная!AR:AR,главная!$N:$N,$B8) -> 0 | X8: =SUMIFS(главная!AS:AS,главная!$N:$N,$B8) -> 0 | Y8: =SUMIFS(главная!AT:AT,главная!$N:$N,$B8) -> 0 | Z8: =SUMIFS(главная!AU:AU,главная!$N:$N,$B8) -> 0 | AA8: =SUMIFS(главная!AV:AV,главная!$N:$N,$B8) -> 0 | AB8: =SUMIFS(главная!AW:AW,главная!$N:$N,$B8) -> 0 | AC8: =SUMIFS(главная!AX:AX,главная!$N:$N,$B8) -> 0 | AD8: =SUMIFS(главная!AY:AY,главная!$N:$N,$B8) -> 0 | AE8: =SUMIFS(главная!AZ:AZ,главная!$N:$N,$B8) -> 0 | AF8: =SUMIFS(главная!BA:BA,главная!$N:$N,$B8) -> 0 | AG8: =SUMIFS(главная!BB:BB,главная!$N:$N,$B8) -> 0 | AH8: =SUMIFS(главная!BC:BC,главная!$N:$N,$B8) -> 0 | AI8: =SUMIFS(главная!BD:BD,главная!$N:$N,$B8) -> 0
B9: =главная!$H$18 -> Дефолты по телу займов / фондирование | D9: =SUM($E9:$AJ9) -> 0 | F9: =SUMIFS(главная!AA:AA,главная!$H:$H,$B9,главная!$N:$N,"итого") -> 0 | G9: =SUMIFS(главная!AB:AB,главная!$H:$H,$B9,главная!$N:$N,"итого") -> 0 | H9: =SUMIFS(главная!AC:AC,главная!$H:$H,$B9,главная!$N:$N,"итого") -> 0 | I9: =SUMIFS(главная!AD:AD,главная!$H:$H,$B9,главная!$N:$N,"итого") -> 0 | J9: =SUMIFS(главная!AE:AE,главная!$H:$H,$B9,главная!$N:$N,"итого") -> 0 | K9: =SUMIFS(главная!AF:AF,главная!$H:$H,$B9,главная!$N:$N,"итого") -> 0 | L9: =SUMIFS(главная!AG:AG,главная!$H:$H,$B9,главная!$N:$N,"итого") -> 0 | M9: =SUMIFS(главная!AH:AH,главная!$H:$H,$B9,главная!$N:$N,"итого") -> 0 | N9: =SUMIFS(главная!AI:AI,главная!$H:$H,$B9,главная!$N:$N,"итого") -> 0 | O9: =SUMIFS(главная!AJ:AJ,главная!$H:$H,$B9,главная!$N:$N,"итого") -> 0 | P9: =SUMIFS(главная!AK:AK,главная!$H:$H,$B9,главная!$N:$N,"итого") -> 0 | Q9: =SUMIFS(главная!AL:AL,главная!$H:$H,$B9,главная!$N:$N,"итого") -> 0 | R9: =SUMIFS(главная!AM:AM,главная!$H:$H,$B9,главная!$N:$N,"итого") -> 0 | S9: =SUMIFS(главная!AN:AN,главная!$H:$H,$B9,главная!$N:$N,"итого") -> 0 | T9: =SUMIFS(главная!AO:AO,главная!$H:$H,$B9,главная!$N:$N,"итого") -> 0 | U9: =SUMIFS(главная!AP:AP,главная!$H:$H,$B9,главная!$N:$N,"итого") -> 0 | V9: =SUMIFS(главная!AQ:AQ,главная!$H:$H,$B9,главная!$N:$N,"итого") -> 0 | W9: =SUMIFS(главная!AR:AR,главная!$H:$H,$B9,главная!$N:$N,"итого") -> 0 | X9: =SUMIFS(главная!AS:AS,главная!$H:$H,$B9,главная!$N:$N,"итого") -> 0 | Y9: =SUMIFS(главная!AT:AT,главная!$H:$H,$B9,главная!$N:$N,"итого") -> 0 | Z9: =SUMIFS(главная!AU:AU,главная!$H:$H,$B9,главная!$N:$N,"итого") -> 0 | AA9: =SUMIFS(главная!AV:AV,главная!$H:$H,$B9,главная!$N:$N,"итого") -> 0 | AB9: =SUMIFS(главная!AW:AW,главная!$H:$H,$B9,главная!$N:$N,"итого") -> 0 | AC9: =SUMIFS(главная!AX:AX,главная!$H:$H,$B9,главная!$N:$N,"итого") -> 0 | AD9: =SUMIFS(главная!AY:AY,главная!$H:$H,$B9,главная!$N:$N,"итого") -> 0 | AE9: =SUMIFS(главная!AZ:AZ,главная!$H:$H,$B9,главная!$N:$N,"итого") -> 0 | AF9: =SUMIFS(главная!BA:BA,главная!$H:$H,$B9,главная!$N:$N,"итого") -> 0 | AG9: =SUMIFS(главная!BB:BB,главная!$H:$H,$B9,главная!$N:$N,"итого") -> 0 | AH9: =SUMIFS(главная!BC:BC,главная!$H:$H,$B9,главная!$N:$N,"итого") -> 0 | AI9: =SUMIFS(главная!BD:BD,главная!$H:$H,$B9,главная!$N:$N,"итого") -> 0
B10: =главная!$H$19 -> Дефолты по %% / фондирование | D10: =SUM($E10:$AJ10) -> 0 | F10: =SUMIFS(главная!AA:AA,главная!$H:$H,$B10,главная!$N:$N,"итого") -> 0 | G10: =SUMIFS(главная!AB:AB,главная!$H:$H,$B10,главная!$N:$N,"итого") -> 0 | H10: =SUMIFS(главная!AC:AC,главная!$H:$H,$B10,главная!$N:$N,"итого") -> 0 | I10: =SUMIFS(главная!AD:AD,главная!$H:$H,$B10,главная!$N:$N,"итого") -> 0 | J10: =SUMIFS(главная!AE:AE,главная!$H:$H,$B10,главная!$N:$N,"итого") -> 0 | K10: =SUMIFS(главная!AF:AF,главная!$H:$H,$B10,главная!$N:$N,"итого") -> 0 | L10: =SUMIFS(главная!AG:AG,главная!$H:$H,$B10,главная!$N:$N,"итого") -> 0 | M10: =SUMIFS(главная!AH:AH,главная!$H:$H,$B10,главная!$N:$N,"итого") -> 0 | N10: =SUMIFS(главная!AI:AI,главная!$H:$H,$B10,главная!$N:$N,"итого") -> 0 | O10: =SUMIFS(главная!AJ:AJ,главная!$H:$H,$B10,главная!$N:$N,"итого") -> 0 | P10: =SUMIFS(главная!AK:AK,главная!$H:$H,$B10,главная!$N:$N,"итого") -> 0 | Q10: =SUMIFS(главная!AL:AL,главная!$H:$H,$B10,главная!$N:$N,"итого") -> 0 | R10: =SUMIFS(главная!AM:AM,главная!$H:$H,$B10,главная!$N:$N,"итого") -> 0 | S10: =SUMIFS(главная!AN:AN,главная!$H:$H,$B10,главная!$N:$N,"итого") -> 0 | T10: =SUMIFS(главная!AO:AO,главная!$H:$H,$B10,главная!$N:$N,"итого") -> 0 | U10: =SUMIFS(главная!AP:AP,главная!$H:$H,$B10,главная!$N:$N,"итого") -> 0 | V10: =SUMIFS(главная!AQ:AQ,главная!$H:$H,$B10,главная!$N:$N,"итого") -> 0 | W10: =SUMIFS(главная!AR:AR,главная!$H:$H,$B10,главная!$N:$N,"итого") -> 0 | X10: =SUMIFS(главная!AS:AS,главная!$H:$H,$B10,главная!$N:$N,"итого") -> 0 | Y10: =SUMIFS(главная!AT:AT,главная!$H:$H,$B10,главная!$N:$N,"итого") -> 0 | Z10: =SUMIFS(главная!AU:AU,главная!$H:$H,$B10,главная!$N:$N,"итого") -> 0 | AA10: =SUMIFS(главная!AV:AV,главная!$H:$H,$B10,главная!$N:$N,"итого") -> 0 | AB10: =SUMIFS(главная!AW:AW,главная!$H:$H,$B10,главная!$N:$N,"итого") -> 0 | AC10: =SUMIFS(главная!AX:AX,главная!$H:$H,$B10,главная!$N:$N,"итого") -> 0 | AD10: =SUMIFS(главная!AY:AY,главная!$H:$H,$B10,главная!$N:$N,"итого") -> 0 | AE10: =SUMIFS(главная!AZ:AZ,главная!$H:$H,$B10,главная!$N:$N,"итого") -> 0 | AF10: =SUMIFS(главная!BA:BA,главная!$H:$H,$B10,главная!$N:$N,"итого") -> 0 | AG10: =SUMIFS(главная!BB:BB,главная!$H:$H,$B10,главная!$N:$N,"итого") -> 0 | AH10: =SUMIFS(главная!BC:BC,главная!$H:$H,$B10,главная!$N:$N,"итого") -> 0 | AI10: =SUMIFS(главная!BD:BD,главная!$H:$H,$B10,главная!$N:$N,"итого") -> 0
B11: Чистый процентный доход | D11: =SUM($E11:$AJ11) -> 0 | F11: =F3-F9-F10 -> 0 | G11: =G3-G9-G10 -> 0 | H11: =H3-H9-H10 -> 0 | I11: =I3-I9-I10 -> 0 | J11: =J3-J9-J10 -> 0 | K11: =K3-K9-K10 -> 0 | L11: =L3-L9-L10 -> 0 | M11: =M3-M9-M10 -> 0 | ... AI11: =AI3-AI9-AI10 -> 0
B12: =главная!$H$176 -> Переменные расходы (РКО) | D12: =SUM($E12:$AJ12) -> 0 | F12: =SUMIFS(главная!AA:AA,главная!$H:$H,$B12,главная!$N:$N,"итого") -> 0 | G12: =SUMIFS(главная!AB:AB,главная!$H:$H,$B12,главная!$N:$N,"итого") -> 0 | H12: =SUMIFS(главная!AC:AC,главная!$H:$H,$B12,главная!$N:$N,"итого") -> 0 | I12: =SUMIFS(главная!AD:AD,главная!$H:$H,$B12,главная!$N:$N,"итого") -> 0 | J12: =SUMIFS(главная!AE:AE,главная!$H:$H,$B12,главная!$N:$N,"итого") -> 0 | K12: =SUMIFS(главная!AF:AF,главная!$H:$H,$B12,главная!$N:$N,"итого") -> 0 | L12: =SUMIFS(главная!AG:AG,главная!$H:$H,$B12,главная!$N:$N,"итого") -> 0 | M12: =SUMIFS(главная!AH:AH,главная!$H:$H,$B12,главная!$N:$N,"итого") -> 0 | N12: =SUMIFS(главная!AI:AI,главная!$H:$H,$B12,главная!$N:$N,"итого") -> 0 | O12: =SUMIFS(главная!AJ:AJ,главная!$H:$H,$B12,главная!$N:$N,"итого") -> 0 | P12: =SUMIFS(главная!AK:AK,главная!$H:$H,$B12,главная!$N:$N,"итого") -> 0 | Q12: =SUMIFS(главная!AL:AL,главная!$H:$H,$B12,главная!$N:$N,"итого") -> 0 | R12: =SUMIFS(главная!AM:AM,главная!$H:$H,$B12,главная!$N:$N,"итого") -> 0 | S12: =SUMIFS(главная!AN:AN,главная!$H:$H,$B12,главная!$N:$N,"итого") -> 0 | T12: =SUMIFS(главная!AO:AO,главная!$H:$H,$B12,главная!$N:$N,"итого") -> 0 | U12: =SUMIFS(главная!AP:AP,главная!$H:$H,$B12,главная!$N:$N,"итого") -> 0 | V12: =SUMIFS(главная!AQ:AQ,главная!$H:$H,$B12,главная!$N:$N,"итого") -> 0 | W12: =SUMIFS(главная!AR:AR,главная!$H:$H,$B12,главная!$N:$N,"итого") -> 0 | X12: =SUMIFS(главная!AS:AS,главная!$H:$H,$B12,главная!$N:$N,"итого") -> 0 | Y12: =SUMIFS(главная!AT:AT,главная!$H:$H,$B12,главная!$N:$N,"итого") -> 0 | Z12: =SUMIFS(главная!AU:AU,главная!$H:$H,$B12,главная!$N:$N,"итого") -> 0 | AA12: =SUMIFS(главная!AV:AV,главная!$H:$H,$B12,главная!$N:$N,"итого") -> 0 | AB12: =SUMIFS(главная!AW:AW,главная!$H:$H,$B12,главная!$N:$N,"итого") -> 0 | AC12: =SUMIFS(главная!AX:AX,главная!$H:$H,$B12,главная!$N:$N,"итого") -> 0 | AD12: =SUMIFS(главная!AY:AY,главная!$H:$H,$B12,главная!$N:$N,"итого") -> 0 | AE12: =SUMIFS(главная!AZ:AZ,главная!$H:$H,$B12,главная!$N:$N,"итого") -> 0 | AF12: =SUMIFS(главная!BA:BA,главная!$H:$H,$B12,главная!$N:$N,"итого") -> 0 | AG12: =SUMIFS(главная!BB:BB,главная!$H:$H,$B12,главная!$N:$N,"итого") -> 0 | AH12: =SUMIFS(главная!BC:BC,главная!$H:$H,$B12,главная!$N:$N,"итого") -> 0 | AI12: =SUMIFS(главная!BD:BD,главная!$H:$H,$B12,главная!$N:$N,"итого") -> 0
B13: =главная!$H$209 -> Маржинальная прибыль | D13: =SUM($E13:$AJ13) -> 0 | F13: =F11-F12 -> 0 | G13: =G11-G12 -> 0 | H13: =H11-H12 -> 0 | I13: =I11-I12 -> 0 | J13: =J11-J12 -> 0 | K13: =K11-K12 -> 0 | L13: =L11-L12 -> 0 | M13: =M11-M12 -> 0 | ... AI13: =AI11-AI12 -> 0
B14: =главная!$H$213 -> Постоянные расходы | D14: =SUM($E14:$AJ14) -> 0 | F14: =SUMIFS(главная!AA:AA,главная!$H:$H,$B14,главная!$N:$N,"итого") -> 0 | G14: =SUMIFS(главная!AB:AB,главная!$H:$H,$B14,главная!$N:$N,"итого") -> 0 | H14: =SUMIFS(главная!AC:AC,главная!$H:$H,$B14,главная!$N:$N,"итого") -> 0 | I14: =SUMIFS(главная!AD:AD,главная!$H:$H,$B14,главная!$N:$N,"итого") -> 0 | J14: =SUMIFS(главная!AE:AE,главная!$H:$H,$B14,главная!$N:$N,"итого") -> 0 | K14: =SUMIFS(главная!AF:AF,главная!$H:$H,$B14,главная!$N:$N,"итого") -> 0 | L14: =SUMIFS(главная!AG:AG,главная!$H:$H,$B14,главная!$N:$N,"итого") -> 0 | M14: =SUMIFS(главная!AH:AH,главная!$H:$H,$B14,главная!$N:$N,"итого") -> 0 | N14: =SUMIFS(главная!AI:AI,главная!$H:$H,$B14,главная!$N:$N,"итого") -> 0 | O14: =SUMIFS(главная!AJ:AJ,главная!$H:$H,$B14,главная!$N:$N,"итого") -> 0 | P14: =SUMIFS(главная!AK:AK,главная!$H:$H,$B14,главная!$N:$N,"итого") -> 0 | Q14: =SUMIFS(главная!AL:AL,главная!$H:$H,$B14,главная!$N:$N,"итого") -> 0 | R14: =SUMIFS(главная!AM:AM,главная!$H:$H,$B14,главная!$N:$N,"итого") -> 0 | S14: =SUMIFS(главная!AN:AN,главная!$H:$H,$B14,главная!$N:$N,"итого") -> 0 | T14: =SUMIFS(главная!AO:AO,главная!$H:$H,$B14,главная!$N:$N,"итого") -> 0 | U14: =SUMIFS(главная!AP:AP,главная!$H:$H,$B14,главная!$N:$N,"итого") -> 0 | V14: =SUMIFS(главная!AQ:AQ,главная!$H:$H,$B14,главная!$N:$N,"итого") -> 0 | W14: =SUMIFS(главная!AR:AR,главная!$H:$H,$B14,главная!$N:$N,"итого") -> 0 | X14: =SUMIFS(главная!AS:AS,главная!$H:$H,$B14,главная!$N:$N,"итого") -> 0 | Y14: =SUMIFS(главная!AT:AT,главная!$H:$H,$B14,главная!$N:$N,"итого") -> 0 | Z14: =SUMIFS(главная!AU:AU,главная!$H:$H,$B14,главная!$N:$N,"итого") -> 0 | AA14: =SUMIFS(главная!AV:AV,главная!$H:$H,$B14,главная!$N:$N,"итого") -> 0 | AB14: =SUMIFS(главная!AW:AW,главная!$H:$H,$B14,главная!$N:$N,"итого") -> 0 | AC14: =SUMIFS(главная!AX:AX,главная!$H:$H,$B14,главная!$N:$N,"итого") -> 0 | AD14: =SUMIFS(главная!AY:AY,главная!$H:$H,$B14,главная!$N:$N,"итого") -> 0 | AE14: =SUMIFS(главная!AZ:AZ,главная!$H:$H,$B14,главная!$N:$N,"итого") -> 0 | AF14: =SUMIFS(главная!BA:BA,главная!$H:$H,$B14,главная!$N:$N,"итого") -> 0 | AG14: =SUMIFS(главная!BB:BB,главная!$H:$H,$B14,главная!$N:$N,"итого") -> 0 | AH14: =SUMIFS(главная!BC:BC,главная!$H:$H,$B14,главная!$N:$N,"итого") -> 0 | AI14: =SUMIFS(главная!BD:BD,главная!$H:$H,$B14,главная!$N:$N,"итого") -> 0
B15: в т.ч. | AK15: =SUM(F14:AI14)-SUM(F15:AI20) -> 0
B16: =главная!$N$230 -> ФОТ+соцсборы | D16: =SUM($E16:$AJ16) -> 0 | F16: =SUMIFS(главная!AA:AA,главная!$N:$N,$B16) -> 0 | G16: =SUMIFS(главная!AB:AB,главная!$N:$N,$B16) -> 0 | H16: =SUMIFS(главная!AC:AC,главная!$N:$N,$B16) -> 0 | I16: =SUMIFS(главная!AD:AD,главная!$N:$N,$B16) -> 0 | J16: =SUMIFS(главная!AE:AE,главная!$N:$N,$B16) -> 0 | K16: =SUMIFS(главная!AF:AF,главная!$N:$N,$B16) -> 0 | L16: =SUMIFS(главная!AG:AG,главная!$N:$N,$B16) -> 0 | M16: =SUMIFS(главная!AH:AH,главная!$N:$N,$B16) -> 0 | N16: =SUMIFS(главная!AI:AI,главная!$N:$N,$B16) -> 0 | O16: =SUMIFS(главная!AJ:AJ,главная!$N:$N,$B16) -> 0 | P16: =SUMIFS(главная!AK:AK,главная!$N:$N,$B16) -> 0 | Q16: =SUMIFS(главная!AL:AL,главная!$N:$N,$B16) -> 0 | R16: =SUMIFS(главная!AM:AM,главная!$N:$N,$B16) -> 0 | S16: =SUMIFS(главная!AN:AN,главная!$N:$N,$B16) -> 0 | T16: =SUMIFS(главная!AO:AO,главная!$N:$N,$B16) -> 0 | U16: =SUMIFS(главная!AP:AP,главная!$N:$N,$B16) -> 0 | V16: =SUMIFS(главная!AQ:AQ,главная!$N:$N,$B16) -> 0 | W16: =SUMIFS(главная!AR:AR,главная!$N:$N,$B16) -> 0 | X16: =SUMIFS(главная!AS:AS,главная!$N:$N,$B16) -> 0 | Y16: =SUMIFS(главная!AT:AT,главная!$N:$N,$B16) -> 0 | Z16: =SUMIFS(главная!AU:AU,главная!$N:$N,$B16) -> 0 | AA16: =SUMIFS(главная!AV:AV,главная!$N:$N,$B16) -> 0 | AB16: =SUMIFS(главная!AW:AW,главная!$N:$N,$B16) -> 0 | AC16: =SUMIFS(главная!AX:AX,главная!$N:$N,$B16) -> 0 | AD16: =SUMIFS(главная!AY:AY,главная!$N:$N,$B16) -> 0 | AE16: =SUMIFS(главная!AZ:AZ,главная!$N:$N,$B16) -> 0 | AF16: =SUMIFS(главная!BA:BA,главная!$N:$N,$B16) -> 0 | AG16: =SUMIFS(главная!BB:BB,главная!$N:$N,$B16) -> 0 | AH16: =SUMIFS(главная!BC:BC,главная!$N:$N,$B16) -> 0 | AI16: =SUMIFS(главная!BD:BD,главная!$N:$N,$B16) -> 0
B17: =главная!$N$264 -> хозрасходы | D17: =SUM($E17:$AJ17) -> 0 | F17: =SUMIFS(главная!AA:AA,главная!$N:$N,$B17) -> 0 | G17: =SUMIFS(главная!AB:AB,главная!$N:$N,$B17) -> 0 | H17: =SUMIFS(главная!AC:AC,главная!$N:$N,$B17) -> 0 | I17: =SUMIFS(главная!AD:AD,главная!$N:$N,$B17) -> 0 | J17: =SUMIFS(главная!AE:AE,главная!$N:$N,$B17) -> 0 | K17: =SUMIFS(главная!AF:AF,главная!$N:$N,$B17) -> 0 | L17: =SUMIFS(главная!AG:AG,главная!$N:$N,$B17) -> 0 | M17: =SUMIFS(главная!AH:AH,главная!$N:$N,$B17) -> 0 | N17: =SUMIFS(главная!AI:AI,главная!$N:$N,$B17) -> 0 | O17: =SUMIFS(главная!AJ:AJ,главная!$N:$N,$B17) -> 0 | P17: =SUMIFS(главная!AK:AK,главная!$N:$N,$B17) -> 0 | Q17: =SUMIFS(главная!AL:AL,главная!$N:$N,$B17) -> 0 | R17: =SUMIFS(главная!AM:AM,главная!$N:$N,$B17) -> 0 | S17: =SUMIFS(главная!AN:AN,главная!$N:$N,$B17) -> 0 | T17: =SUMIFS(главная!AO:AO,главная!$N:$N,$B17) -> 0 | U17: =SUMIFS(главная!AP:AP,главная!$N:$N,$B17) -> 0 | V17: =SUMIFS(главная!AQ:AQ,главная!$N:$N,$B17) -> 0 | W17: =SUMIFS(главная!AR:AR,главная!$N:$N,$B17) -> 0 | X17: =SUMIFS(главная!AS:AS,главная!$N:$N,$B17) -> 0 | Y17: =SUMIFS(главная!AT:AT,главная!$N:$N,$B17) -> 0 | Z17: =SUMIFS(главная!AU:AU,главная!$N:$N,$B17) -> 0 | AA17: =SUMIFS(главная!AV:AV,главная!$N:$N,$B17) -> 0 | AB17: =SUMIFS(главная!AW:AW,главная!$N:$N,$B17) -> 0 | AC17: =SUMIFS(главная!AX:AX,главная!$N:$N,$B17) -> 0 | AD17: =SUMIFS(главная!AY:AY,главная!$N:$N,$B17) -> 0 | AE17: =SUMIFS(главная!AZ:AZ,главная!$N:$N,$B17) -> 0 | AF17: =SUMIFS(главная!BA:BA,главная!$N:$N,$B17) -> 0 | AG17: =SUMIFS(главная!BB:BB,главная!$N:$N,$B17) -> 0 | AH17: =SUMIFS(главная!BC:BC,главная!$N:$N,$B17) -> 0 | AI17: =SUMIFS(главная!BD:BD,главная!$N:$N,$B17) -> 0
B18: =главная!$N$281 -> Расходы на маркетинг | D18: =SUM($E18:$AJ18) -> 0 | F18: =SUMIFS(главная!AA:AA,главная!$N:$N,$B18) -> 0 | G18: =SUMIFS(главная!AB:AB,главная!$N:$N,$B18) -> 0 | H18: =SUMIFS(главная!AC:AC,главная!$N:$N,$B18) -> 0 | I18: =SUMIFS(главная!AD:AD,главная!$N:$N,$B18) -> 0 | J18: =SUMIFS(главная!AE:AE,главная!$N:$N,$B18) -> 0 | K18: =SUMIFS(главная!AF:AF,главная!$N:$N,$B18) -> 0 | L18: =SUMIFS(главная!AG:AG,главная!$N:$N,$B18) -> 0 | M18: =SUMIFS(главная!AH:AH,главная!$N:$N,$B18) -> 0 | N18: =SUMIFS(главная!AI:AI,главная!$N:$N,$B18) -> 0 | O18: =SUMIFS(главная!AJ:AJ,главная!$N:$N,$B18) -> 0 | P18: =SUMIFS(главная!AK:AK,главная!$N:$N,$B18) -> 0 | Q18: =SUMIFS(главная!AL:AL,главная!$N:$N,$B18) -> 0 | R18: =SUMIFS(главная!AM:AM,главная!$N:$N,$B18) -> 0 | S18: =SUMIFS(главная!AN:AN,главная!$N:$N,$B18) -> 0 | T18: =SUMIFS(главная!AO:AO,главная!$N:$N,$B18) -> 0 | U18: =SUMIFS(главная!AP:AP,главная!$N:$N,$B18) -> 0 | V18: =SUMIFS(главная!AQ:AQ,главная!$N:$N,$B18) -> 0 | W18: =SUMIFS(главная!AR:AR,главная!$N:$N,$B18) -> 0 | X18: =SUMIFS(главная!AS:AS,главная!$N:$N,$B18) -> 0 | Y18: =SUMIFS(главная!AT:AT,главная!$N:$N,$B18) -> 0 | Z18: =SUMIFS(главная!AU:AU,главная!$N:$N,$B18) -> 0 | AA18: =SUMIFS(главная!AV:AV,главная!$N:$N,$B18) -> 0 | AB18: =SUMIFS(главная!AW:AW,главная!$N:$N,$B18) -> 0 | AC18: =SUMIFS(главная!AX:AX,главная!$N:$N,$B18) -> 0 | AD18: =SUMIFS(главная!AY:AY,главная!$N:$N,$B18) -> 0 | AE18: =SUMIFS(главная!AZ:AZ,главная!$N:$N,$B18) -> 0 | AF18: =SUMIFS(главная!BA:BA,главная!$N:$N,$B18) -> 0 | AG18: =SUMIFS(главная!BB:BB,главная!$N:$N,$B18) -> 0 | AH18: =SUMIFS(главная!BC:BC,главная!$N:$N,$B18) -> 0 | AI18: =SUMIFS(главная!BD:BD,главная!$N:$N,$B18) -> 0
B19: =главная!$N$298 -> Расходы на аренду офиса | D19: =SUM($E19:$AJ19) -> 0 | F19: =SUMIFS(главная!AA:AA,главная!$N:$N,$B19) -> 0 | G19: =SUMIFS(главная!AB:AB,главная!$N:$N,$B19) -> 0 | H19: =SUMIFS(главная!AC:AC,главная!$N:$N,$B19) -> 0 | I19: =SUMIFS(главная!AD:AD,главная!$N:$N,$B19) -> 0 | J19: =SUMIFS(главная!AE:AE,главная!$N:$N,$B19) -> 0 | K19: =SUMIFS(главная!AF:AF,главная!$N:$N,$B19) -> 0 | L19: =SUMIFS(главная!AG:AG,главная!$N:$N,$B19) -> 0 | M19: =SUMIFS(главная!AH:AH,главная!$N:$N,$B19) -> 0 | N19: =SUMIFS(главная!AI:AI,главная!$N:$N,$B19) -> 0 | O19: =SUMIFS(главная!AJ:AJ,главная!$N:$N,$B19) -> 0 | P19: =SUMIFS(главная!AK:AK,главная!$N:$N,$B19) -> 0 | Q19: =SUMIFS(главная!AL:AL,главная!$N:$N,$B19) -> 0 | R19: =SUMIFS(главная!AM:AM,главная!$N:$N,$B19) -> 0 | S19: =SUMIFS(главная!AN:AN,главная!$N:$N,$B19) -> 0 | T19: =SUMIFS(главная!AO:AO,главная!$N:$N,$B19) -> 0 | U19: =SUMIFS(главная!AP:AP,главная!$N:$N,$B19) -> 0 | V19: =SUMIFS(главная!AQ:AQ,главная!$N:$N,$B19) -> 0 | W19: =SUMIFS(главная!AR:AR,главная!$N:$N,$B19) -> 0 | X19: =SUMIFS(главная!AS:AS,главная!$N:$N,$B19) -> 0 | Y19: =SUMIFS(главная!AT:AT,главная!$N:$N,$B19) -> 0 | Z19: =SUMIFS(главная!AU:AU,главная!$N:$N,$B19) -> 0 | AA19: =SUMIFS(главная!AV:AV,главная!$N:$N,$B19) -> 0 | AB19: =SUMIFS(главная!AW:AW,главная!$N:$N,$B19) -> 0 | AC19: =SUMIFS(главная!AX:AX,главная!$N:$N,$B19) -> 0 | AD19: =SUMIFS(главная!AY:AY,главная!$N:$N,$B19) -> 0 | AE19: =SUMIFS(главная!AZ:AZ,главная!$N:$N,$B19) -> 0 | AF19: =SUMIFS(главная!BA:BA,главная!$N:$N,$B19) -> 0 | AG19: =SUMIFS(главная!BB:BB,главная!$N:$N,$B19) -> 0 | AH19: =SUMIFS(главная!BC:BC,главная!$N:$N,$B19) -> 0 | AI19: =SUMIFS(главная!BD:BD,главная!$N:$N,$B19) -> 0
B20: =главная!$N$315 -> Прочие постоянные расходы | D20: =SUM($E20:$AJ20) -> 0 | F20: =SUMIFS(главная!AA:AA,главная!$N:$N,$B20) -> 0 | G20: =SUMIFS(главная!AB:AB,главная!$N:$N,$B20) -> 0 | H20: =SUMIFS(главная!AC:AC,главная!$N:$N,$B20) -> 0 | I20: =SUMIFS(главная!AD:AD,главная!$N:$N,$B20) -> 0 | J20: =SUMIFS(главная!AE:AE,главная!$N:$N,$B20) -> 0 | K20: =SUMIFS(главная!AF:AF,главная!$N:$N,$B20) -> 0 | L20: =SUMIFS(главная!AG:AG,главная!$N:$N,$B20) -> 0 | M20: =SUMIFS(главная!AH:AH,главная!$N:$N,$B20) -> 0 | N20: =SUMIFS(главная!AI:AI,главная!$N:$N,$B20) -> 0 | O20: =SUMIFS(главная!AJ:AJ,главная!$N:$N,$B20) -> 0 | P20: =SUMIFS(главная!AK:AK,главная!$N:$N,$B20) -> 0 | Q20: =SUMIFS(главная!AL:AL,главная!$N:$N,$B20) -> 0 | R20: =SUMIFS(главная!AM:AM,главная!$N:$N,$B20) -> 0 | S20: =SUMIFS(главная!AN:AN,главная!$N:$N,$B20) -> 0 | T20: =SUMIFS(главная!AO:AO,главная!$N:$N,$B20) -> 0 | U20: =SUMIFS(главная!AP:AP,главная!$N:$N,$B20) -> 0 | V20: =SUMIFS(главная!AQ:AQ,главная!$N:$N,$B20) -> 0 | W20: =SUMIFS(главная!AR:AR,главная!$N:$N,$B20) -> 0 | X20: =SUMIFS(главная!AS:AS,главная!$N:$N,$B20) -> 0 | Y20: =SUMIFS(главная!AT:AT,главная!$N:$N,$B20) -> 0 | Z20: =SUMIFS(главная!AU:AU,главная!$N:$N,$B20) -> 0 | AA20: =SUMIFS(главная!AV:AV,главная!$N:$N,$B20) -> 0 | AB20: =SUMIFS(главная!AW:AW,главная!$N:$N,$B20) -> 0 | AC20: =SUMIFS(главная!AX:AX,главная!$N:$N,$B20) -> 0 | AD20: =SUMIFS(главная!AY:AY,главная!$N:$N,$B20) -> 0 | AE20: =SUMIFS(главная!AZ:AZ,главная!$N:$N,$B20) -> 0 | AF20: =SUMIFS(главная!BA:BA,главная!$N:$N,$B20) -> 0 | AG20: =SUMIFS(главная!BB:BB,главная!$N:$N,$B20) -> 0 | AH20: =SUMIFS(главная!BC:BC,главная!$N:$N,$B20) -> 0 | AI20: =SUMIFS(главная!BD:BD,главная!$N:$N,$B20) -> 0
B22: =главная!$H$321 -> EBITDA | D22: =SUM($E22:$AJ22) -> 0 | F22: =F13-F14 -> 0 | G22: =G13-G14 -> 0 | H22: =H13-H14 -> 0 | I22: =I13-I14 -> 0 | J22: =J13-J14 -> 0 | K22: =K13-K14 -> 0 | L22: =L13-L14 -> 0 | M22: =M13-M14 -> 0 | ... AI22: =AI13-AI14 -> 0
B23: =главная!$H$334 -> проценты по инвестициям | D23: =SUM($E23:$AJ23) -> 0 | F23: =SUMIFS(главная!AA:AA,главная!$H:$H,$B23,главная!$N:$N,"итого") -> 0 | G23: =SUMIFS(главная!AB:AB,главная!$H:$H,$B23,главная!$N:$N,"итого") -> 0 | H23: =SUMIFS(главная!AC:AC,главная!$H:$H,$B23,главная!$N:$N,"итого") -> 0 | I23: =SUMIFS(главная!AD:AD,главная!$H:$H,$B23,главная!$N:$N,"итого") -> 0 | J23: =SUMIFS(главная!AE:AE,главная!$H:$H,$B23,главная!$N:$N,"итого") -> 0 | K23: =SUMIFS(главная!AF:AF,главная!$H:$H,$B23,главная!$N:$N,"итого") -> 0 | L23: =SUMIFS(главная!AG:AG,главная!$H:$H,$B23,главная!$N:$N,"итого") -> 0 | M23: =SUMIFS(главная!AH:AH,главная!$H:$H,$B23,главная!$N:$N,"итого") -> 0 | N23: =SUMIFS(главная!AI:AI,главная!$H:$H,$B23,главная!$N:$N,"итого") -> 0 | O23: =SUMIFS(главная!AJ:AJ,главная!$H:$H,$B23,главная!$N:$N,"итого") -> 0 | P23: =SUMIFS(главная!AK:AK,главная!$H:$H,$B23,главная!$N:$N,"итого") -> 0 | Q23: =SUMIFS(главная!AL:AL,главная!$H:$H,$B23,главная!$N:$N,"итого") -> 0 | R23: =SUMIFS(главная!AM:AM,главная!$H:$H,$B23,главная!$N:$N,"итого") -> 0 | S23: =SUMIFS(главная!AN:AN,главная!$H:$H,$B23,главная!$N:$N,"итого") -> 0 | T23: =SUMIFS(главная!AO:AO,главная!$H:$H,$B23,главная!$N:$N,"итого") -> 0 | U23: =SUMIFS(главная!AP:AP,главная!$H:$H,$B23,главная!$N:$N,"итого") -> 0 | V23: =SUMIFS(главная!AQ:AQ,главная!$H:$H,$B23,главная!$N:$N,"итого") -> 0 | W23: =SUMIFS(главная!AR:AR,главная!$H:$H,$B23,главная!$N:$N,"итого") -> 0 | X23: =SUMIFS(главная!AS:AS,главная!$H:$H,$B23,главная!$N:$N,"итого") -> 0 | Y23: =SUMIFS(главная!AT:AT,главная!$H:$H,$B23,главная!$N:$N,"итого") -> 0 | Z23: =SUMIFS(главная!AU:AU,главная!$H:$H,$B23,главная!$N:$N,"итого") -> 0 | AA23: =SUMIFS(главная!AV:AV,главная!$H:$H,$B23,главная!$N:$N,"итого") -> 0 | AB23: =SUMIFS(главная!AW:AW,главная!$H:$H,$B23,главная!$N:$N,"итого") -> 0 | AC23: =SUMIFS(главная!AX:AX,главная!$H:$H,$B23,главная!$N:$N,"итого") -> 0 | AD23: =SUMIFS(главная!AY:AY,главная!$H:$H,$B23,главная!$N:$N,"итого") -> 0 | AE23: =SUMIFS(главная!AZ:AZ,главная!$H:$H,$B23,главная!$N:$N,"итого") -> 0 | AF23: =SUMIFS(главная!BA:BA,главная!$H:$H,$B23,главная!$N:$N,"итого") -> 0 | AG23: =SUMIFS(главная!BB:BB,главная!$H:$H,$B23,главная!$N:$N,"итого") -> 0 | AH23: =SUMIFS(главная!BC:BC,главная!$H:$H,$B23,главная!$N:$N,"итого") -> 0 | AI23: =SUMIFS(главная!BD:BD,главная!$H:$H,$B23,главная!$N:$N,"итого") -> 0
B24: =главная!$H$339 -> Налог на прибыль | D24: =SUM($E24:$AJ24) -> 0 | F24: =SUMIFS(главная!AA:AA,главная!$H:$H,$B24,главная!$N:$N,"итого") -> 0 | G24: =SUMIFS(главная!AB:AB,главная!$H:$H,$B24,главная!$N:$N,"итого") -> 0 | H24: =SUMIFS(главная!AC:AC,главная!$H:$H,$B24,главная!$N:$N,"итого") -> 0 | I24: =SUMIFS(главная!AD:AD,главная!$H:$H,$B24,главная!$N:$N,"итого") -> 0 | J24: =SUMIFS(главная!AE:AE,главная!$H:$H,$B24,главная!$N:$N,"итого") -> 0 | K24: =SUMIFS(главная!AF:AF,главная!$H:$H,$B24,главная!$N:$N,"итого") -> 0 | L24: =SUMIFS(главная!AG:AG,главная!$H:$H,$B24,главная!$N:$N,"итого") -> 0 | M24: =SUMIFS(главная!AH:AH,главная!$H:$H,$B24,главная!$N:$N,"итого") -> 0 | N24: =SUMIFS(главная!AI:AI,главная!$H:$H,$B24,главная!$N:$N,"итого") -> 0 | O24: =SUMIFS(главная!AJ:AJ,главная!$H:$H,$B24,главная!$N:$N,"итого") -> 0 | P24: =SUMIFS(главная!AK:AK,главная!$H:$H,$B24,главная!$N:$N,"итого") -> 0 | Q24: =SUMIFS(главная!AL:AL,главная!$H:$H,$B24,главная!$N:$N,"итого") -> 0 | R24: =SUMIFS(главная!AM:AM,главная!$H:$H,$B24,главная!$N:$N,"итого") -> 0 | S24: =SUMIFS(главная!AN:AN,главная!$H:$H,$B24,главная!$N:$N,"итого") -> 0 | T24: =SUMIFS(главная!AO:AO,главная!$H:$H,$B24,главная!$N:$N,"итого") -> 0 | U24: =SUMIFS(главная!AP:AP,главная!$H:$H,$B24,главная!$N:$N,"итого") -> 0 | V24: =SUMIFS(главная!AQ:AQ,главная!$H:$H,$B24,главная!$N:$N,"итого") -> 0 | W24: =SUMIFS(главная!AR:AR,главная!$H:$H,$B24,главная!$N:$N,"итого") -> 0 | X24: =SUMIFS(главная!AS:AS,главная!$H:$H,$B24,главная!$N:$N,"итого") -> 0 | Y24: =SUMIFS(главная!AT:AT,главная!$H:$H,$B24,главная!$N:$N,"итого") -> 0 | Z24: =SUMIFS(главная!AU:AU,главная!$H:$H,$B24,главная!$N:$N,"итого") -> 0 | AA24: =SUMIFS(главная!AV:AV,главная!$H:$H,$B24,главная!$N:$N,"итого") -> 0 | AB24: =SUMIFS(главная!AW:AW,главная!$H:$H,$B24,главная!$N:$N,"итого") -> 0 | AC24: =SUMIFS(главная!AX:AX,главная!$H:$H,$B24,главная!$N:$N,"итого") -> 0 | AD24: =SUMIFS(главная!AY:AY,главная!$H:$H,$B24,главная!$N:$N,"итого") -> 0 | AE24: =SUMIFS(главная!AZ:AZ,главная!$H:$H,$B24,главная!$N:$N,"итого") -> 0 | AF24: =SUMIFS(главная!BA:BA,главная!$H:$H,$B24,главная!$N:$N,"итого") -> 0 | AG24: =SUMIFS(главная!BB:BB,главная!$H:$H,$B24,главная!$N:$N,"итого") -> 0 | AH24: =SUMIFS(главная!BC:BC,главная!$H:$H,$B24,главная!$N:$N,"итого") -> 0 | AI24: =SUMIFS(главная!BD:BD,главная!$H:$H,$B24,главная!$N:$N,"итого") -> 0
B25: =главная!$H$331 -> Амортизация | D25: =SUM($E25:$AJ25) -> 0 | F25: =SUMIFS(главная!AA:AA,главная!$H:$H,$B25,главная!$N:$N,"итого") -> 0 | G25: =SUMIFS(главная!AB:AB,главная!$H:$H,$B25,главная!$N:$N,"итого") -> 0 | H25: =SUMIFS(главная!AC:AC,главная!$H:$H,$B25,главная!$N:$N,"итого") -> 0 | I25: =SUMIFS(главная!AD:AD,главная!$H:$H,$B25,главная!$N:$N,"итого") -> 0 | J25: =SUMIFS(главная!AE:AE,главная!$H:$H,$B25,главная!$N:$N,"итого") -> 0 | K25: =SUMIFS(главная!AF:AF,главная!$H:$H,$B25,главная!$N:$N,"итого") -> 0 | L25: =SUMIFS(главная!AG:AG,главная!$H:$H,$B25,главная!$N:$N,"итого") -> 0 | M25: =SUMIFS(главная!AH:AH,главная!$H:$H,$B25,главная!$N:$N,"итого") -> 0 | N25: =SUMIFS(главная!AI:AI,главная!$H:$H,$B25,главная!$N:$N,"итого") -> 0 | O25: =SUMIFS(главная!AJ:AJ,главная!$H:$H,$B25,главная!$N:$N,"итого") -> 0 | P25: =SUMIFS(главная!AK:AK,главная!$H:$H,$B25,главная!$N:$N,"итого") -> 0 | Q25: =SUMIFS(главная!AL:AL,главная!$H:$H,$B25,главная!$N:$N,"итого") -> 0 | R25: =SUMIFS(главная!AM:AM,главная!$H:$H,$B25,главная!$N:$N,"итого") -> 0 | S25: =SUMIFS(главная!AN:AN,главная!$H:$H,$B25,главная!$N:$N,"итого") -> 0 | T25: =SUMIFS(главная!AO:AO,главная!$H:$H,$B25,главная!$N:$N,"итого") -> 0 | U25: =SUMIFS(главная!AP:AP,главная!$H:$H,$B25,главная!$N:$N,"итого") -> 0 | V25: =SUMIFS(главная!AQ:AQ,главная!$H:$H,$B25,главная!$N:$N,"итого") -> 0 | W25: =SUMIFS(главная!AR:AR,главная!$H:$H,$B25,главная!$N:$N,"итого") -> 0 | X25: =SUMIFS(главная!AS:AS,главная!$H:$H,$B25,главная!$N:$N,"итого") -> 0 | Y25: =SUMIFS(главная!AT:AT,главная!$H:$H,$B25,главная!$N:$N,"итого") -> 0 | Z25: =SUMIFS(главная!AU:AU,главная!$H:$H,$B25,главная!$N:$N,"итого") -> 0 | AA25: =SUMIFS(главная!AV:AV,главная!$H:$H,$B25,главная!$N:$N,"итого") -> 0 | AB25: =SUMIFS(главная!AW:AW,главная!$H:$H,$B25,главная!$N:$N,"итого") -> 0 | AC25: =SUMIFS(главная!AX:AX,главная!$H:$H,$B25,главная!$N:$N,"итого") -> 0 | AD25: =SUMIFS(главная!AY:AY,главная!$H:$H,$B25,главная!$N:$N,"итого") -> 0 | AE25: =SUMIFS(главная!AZ:AZ,главная!$H:$H,$B25,главная!$N:$N,"итого") -> 0 | AF25: =SUMIFS(главная!BA:BA,главная!$H:$H,$B25,главная!$N:$N,"итого") -> 0 | AG25: =SUMIFS(главная!BB:BB,главная!$H:$H,$B25,главная!$N:$N,"итого") -> 0 | AH25: =SUMIFS(главная!BC:BC,главная!$H:$H,$B25,главная!$N:$N,"итого") -> 0 | AI25: =SUMIFS(главная!BD:BD,главная!$H:$H,$B25,главная!$N:$N,"итого") -> 0
B26: =главная!$H$343 -> Чистая прибыль | D26: =SUM($E26:$AJ26) -> 0 | F26: =F22-SUM(F23:F25) -> 0 | G26: =G22-SUM(G23:G25) -> 0 | H26: =H22-SUM(H23:H25) -> 0 | I26: =I22-SUM(I23:I25) -> 0 | J26: =J22-SUM(J23:J25) -> 0 | K26: =K22-SUM(K23:K25) -> 0 | L26: =L22-SUM(L23:L25) -> 0 | M26: =M22-SUM(M23:M25) -> 0 | ... AI26: =AI22-SUM(AI23:AI25) -> 0
B28: =главная!H21 -> Полученные проценты | D28: =SUM($E28:$AJ28) -> 0 | F28: =SUMIFS(главная!AA:AA,главная!$H:$H,$B28,главная!$N:$N,"итого") -> 0 | G28: =SUMIFS(главная!AB:AB,главная!$H:$H,$B28,главная!$N:$N,"итого") -> 0 | H28: =SUMIFS(главная!AC:AC,главная!$H:$H,$B28,главная!$N:$N,"итого") -> 0 | I28: =SUMIFS(главная!AD:AD,главная!$H:$H,$B28,главная!$N:$N,"итого") -> 0 | J28: =SUMIFS(главная!AE:AE,главная!$H:$H,$B28,главная!$N:$N,"итого") -> 0 | K28: =SUMIFS(главная!AF:AF,главная!$H:$H,$B28,главная!$N:$N,"итого") -> 0 | L28: =SUMIFS(главная!AG:AG,главная!$H:$H,$B28,главная!$N:$N,"итого") -> 0 | M28: =SUMIFS(главная!AH:AH,главная!$H:$H,$B28,главная!$N:$N,"итого") -> 0 | N28: =SUMIFS(главная!AI:AI,главная!$H:$H,$B28,главная!$N:$N,"итого") -> 0 | O28: =SUMIFS(главная!AJ:AJ,главная!$H:$H,$B28,главная!$N:$N,"итого") -> 0 | P28: =SUMIFS(главная!AK:AK,главная!$H:$H,$B28,главная!$N:$N,"итого") -> 0 | Q28: =SUMIFS(главная!AL:AL,главная!$H:$H,$B28,главная!$N:$N,"итого") -> 0 | R28: =SUMIFS(главная!AM:AM,главная!$H:$H,$B28,главная!$N:$N,"итого") -> 0 | S28: =SUMIFS(главная!AN:AN,главная!$H:$H,$B28,главная!$N:$N,"итого") -> 0 | T28: =SUMIFS(главная!AO:AO,главная!$H:$H,$B28,главная!$N:$N,"итого") -> 0 | U28: =SUMIFS(главная!AP:AP,главная!$H:$H,$B28,главная!$N:$N,"итого") -> 0 | V28: =SUMIFS(главная!AQ:AQ,главная!$H:$H,$B28,главная!$N:$N,"итого") -> 0 | W28: =SUMIFS(главная!AR:AR,главная!$H:$H,$B28,главная!$N:$N,"итого") -> 0 | X28: =SUMIFS(главная!AS:AS,главная!$H:$H,$B28,главная!$N:$N,"итого") -> 0 | Y28: =SUMIFS(главная!AT:AT,главная!$H:$H,$B28,главная!$N:$N,"итого") -> 0 | Z28: =SUMIFS(главная!AU:AU,главная!$H:$H,$B28,главная!$N:$N,"итого") -> 0 | AA28: =SUMIFS(главная!AV:AV,главная!$H:$H,$B28,главная!$N:$N,"итого") -> 0 | AB28: =SUMIFS(главная!AW:AW,главная!$H:$H,$B28,главная!$N:$N,"итого") -> 0 | AC28: =SUMIFS(главная!AX:AX,главная!$H:$H,$B28,главная!$N:$N,"итого") -> 0 | AD28: =SUMIFS(главная!AY:AY,главная!$H:$H,$B28,главная!$N:$N,"итого") -> 0 | AE28: =SUMIFS(главная!AZ:AZ,главная!$H:$H,$B28,главная!$N:$N,"итого") -> 0 | AF28: =SUMIFS(главная!BA:BA,главная!$H:$H,$B28,главная!$N:$N,"итого") -> 0 | AG28: =SUMIFS(главная!BB:BB,главная!$H:$H,$B28,главная!$N:$N,"итого") -> 0 | AH28: =SUMIFS(главная!BC:BC,главная!$H:$H,$B28,главная!$N:$N,"итого") -> 0 | AI28: =SUMIFS(главная!BD:BD,главная!$H:$H,$B28,главная!$N:$N,"итого") -> 0
B29: в т.ч. | AK29: =SUM(F28:AI28)-SUM(F29:AI33) -> 0
B30: =главная!$N$58 -> %% поступившие на р/сч по Тарифу-1 | D30: =SUM($E30:$AJ30) -> 0 | F30: =SUMIFS(главная!AA:AA,главная!$N:$N,$B30) -> 0 | G30: =SUMIFS(главная!AB:AB,главная!$N:$N,$B30) -> 0 | H30: =SUMIFS(главная!AC:AC,главная!$N:$N,$B30) -> 0 | I30: =SUMIFS(главная!AD:AD,главная!$N:$N,$B30) -> 0 | J30: =SUMIFS(главная!AE:AE,главная!$N:$N,$B30) -> 0 | K30: =SUMIFS(главная!AF:AF,главная!$N:$N,$B30) -> 0 | L30: =SUMIFS(главная!AG:AG,главная!$N:$N,$B30) -> 0 | M30: =SUMIFS(главная!AH:AH,главная!$N:$N,$B30) -> 0 | N30: =SUMIFS(главная!AI:AI,главная!$N:$N,$B30) -> 0 | O30: =SUMIFS(главная!AJ:AJ,главная!$N:$N,$B30) -> 0 | P30: =SUMIFS(главная!AK:AK,главная!$N:$N,$B30) -> 0 | Q30: =SUMIFS(главная!AL:AL,главная!$N:$N,$B30) -> 0 | R30: =SUMIFS(главная!AM:AM,главная!$N:$N,$B30) -> 0 | S30: =SUMIFS(главная!AN:AN,главная!$N:$N,$B30) -> 0 | T30: =SUMIFS(главная!AO:AO,главная!$N:$N,$B30) -> 0 | U30: =SUMIFS(главная!AP:AP,главная!$N:$N,$B30) -> 0 | V30: =SUMIFS(главная!AQ:AQ,главная!$N:$N,$B30) -> 0 | W30: =SUMIFS(главная!AR:AR,главная!$N:$N,$B30) -> 0 | X30: =SUMIFS(главная!AS:AS,главная!$N:$N,$B30) -> 0 | Y30: =SUMIFS(главная!AT:AT,главная!$N:$N,$B30) -> 0 | Z30: =SUMIFS(главная!AU:AU,главная!$N:$N,$B30) -> 0 | AA30: =SUMIFS(главная!AV:AV,главная!$N:$N,$B30) -> 0 | AB30: =SUMIFS(главная!AW:AW,главная!$N:$N,$B30) -> 0 | AC30: =SUMIFS(главная!AX:AX,главная!$N:$N,$B30) -> 0 | AD30: =SUMIFS(главная!AY:AY,главная!$N:$N,$B30) -> 0 | AE30: =SUMIFS(главная!AZ:AZ,главная!$N:$N,$B30) -> 0 | AF30: =SUMIFS(главная!BA:BA,главная!$N:$N,$B30) -> 0 | AG30: =SUMIFS(главная!BB:BB,главная!$N:$N,$B30) -> 0 | AH30: =SUMIFS(главная!BC:BC,главная!$N:$N,$B30) -> 0 | AI30: =SUMIFS(главная!BD:BD,главная!$N:$N,$B30) -> 0
B31: =главная!$N$96 -> %% поступившие на р/сч по Тарифу-2 | D31: =SUM($E31:$AJ31) -> 0 | F31: =SUMIFS(главная!AA:AA,главная!$N:$N,$B31) -> 0 | G31: =SUMIFS(главная!AB:AB,главная!$N:$N,$B31) -> 0 | H31: =SUMIFS(главная!AC:AC,главная!$N:$N,$B31) -> 0 | I31: =SUMIFS(главная!AD:AD,главная!$N:$N,$B31) -> 0 | J31: =SUMIFS(главная!AE:AE,главная!$N:$N,$B31) -> 0 | K31: =SUMIFS(главная!AF:AF,главная!$N:$N,$B31) -> 0 | L31: =SUMIFS(главная!AG:AG,главная!$N:$N,$B31) -> 0 | M31: =SUMIFS(главная!AH:AH,главная!$N:$N,$B31) -> 0 | N31: =SUMIFS(главная!AI:AI,главная!$N:$N,$B31) -> 0 | O31: =SUMIFS(главная!AJ:AJ,главная!$N:$N,$B31) -> 0 | P31: =SUMIFS(главная!AK:AK,главная!$N:$N,$B31) -> 0 | Q31: =SUMIFS(главная!AL:AL,главная!$N:$N,$B31) -> 0 | R31: =SUMIFS(главная!AM:AM,главная!$N:$N,$B31) -> 0 | S31: =SUMIFS(главная!AN:AN,главная!$N:$N,$B31) -> 0 | T31: =SUMIFS(главная!AO:AO,главная!$N:$N,$B31) -> 0 | U31: =SUMIFS(главная!AP:AP,главная!$N:$N,$B31) -> 0 | V31: =SUMIFS(главная!AQ:AQ,главная!$N:$N,$B31) -> 0 | W31: =SUMIFS(главная!AR:AR,главная!$N:$N,$B31) -> 0 | X31: =SUMIFS(главная!AS:AS,главная!$N:$N,$B31) -> 0 | Y31: =SUMIFS(главная!AT:AT,главная!$N:$N,$B31) -> 0 | Z31: =SUMIFS(главная!AU:AU,главная!$N:$N,$B31) -> 0 | AA31: =SUMIFS(главная!AV:AV,главная!$N:$N,$B31) -> 0 | AB31: =SUMIFS(главная!AW:AW,главная!$N:$N,$B31) -> 0 | AC31: =SUMIFS(главная!AX:AX,главная!$N:$N,$B31) -> 0 | AD31: =SUMIFS(главная!AY:AY,главная!$N:$N,$B31) -> 0 | AE31: =SUMIFS(главная!AZ:AZ,главная!$N:$N,$B31) -> 0 | AF31: =SUMIFS(главная!BA:BA,главная!$N:$N,$B31) -> 0 | AG31: =SUMIFS(главная!BB:BB,главная!$N:$N,$B31) -> 0 | AH31: =SUMIFS(главная!BC:BC,главная!$N:$N,$B31) -> 0 | AI31: =SUMIFS(главная!BD:BD,главная!$N:$N,$B31) -> 0
B32: =главная!$N$134 -> %% поступившие на р/сч по Тарифу-3 | D32: =SUM($E32:$AJ32) -> 0 | F32: =SUMIFS(главная!AA:AA,главная!$N:$N,$B32) -> 0 | G32: =SUMIFS(главная!AB:AB,главная!$N:$N,$B32) -> 0 | H32: =SUMIFS(главная!AC:AC,главная!$N:$N,$B32) -> 0 | I32: =SUMIFS(главная!AD:AD,главная!$N:$N,$B32) -> 0 | J32: =SUMIFS(главная!AE:AE,главная!$N:$N,$B32) -> 0 | K32: =SUMIFS(главная!AF:AF,главная!$N:$N,$B32) -> 0 | L32: =SUMIFS(главная!AG:AG,главная!$N:$N,$B32) -> 0 | M32: =SUMIFS(главная!AH:AH,главная!$N:$N,$B32) -> 0 | N32: =SUMIFS(главная!AI:AI,главная!$N:$N,$B32) -> 0 | O32: =SUMIFS(главная!AJ:AJ,главная!$N:$N,$B32) -> 0 | P32: =SUMIFS(главная!AK:AK,главная!$N:$N,$B32) -> 0 | Q32: =SUMIFS(главная!AL:AL,главная!$N:$N,$B32) -> 0 | R32: =SUMIFS(главная!AM:AM,главная!$N:$N,$B32) -> 0 | S32: =SUMIFS(главная!AN:AN,главная!$N:$N,$B32) -> 0 | T32: =SUMIFS(главная!AO:AO,главная!$N:$N,$B32) -> 0 | U32: =SUMIFS(главная!AP:AP,главная!$N:$N,$B32) -> 0 | V32: =SUMIFS(главная!AQ:AQ,главная!$N:$N,$B32) -> 0 | W32: =SUMIFS(главная!AR:AR,главная!$N:$N,$B32) -> 0 | X32: =SUMIFS(главная!AS:AS,главная!$N:$N,$B32) -> 0 | Y32: =SUMIFS(главная!AT:AT,главная!$N:$N,$B32) -> 0 | Z32: =SUMIFS(главная!AU:AU,главная!$N:$N,$B32) -> 0 | AA32: =SUMIFS(главная!AV:AV,главная!$N:$N,$B32) -> 0 | AB32: =SUMIFS(главная!AW:AW,главная!$N:$N,$B32) -> 0 | AC32: =SUMIFS(главная!AX:AX,главная!$N:$N,$B32) -> 0 | AD32: =SUMIFS(главная!AY:AY,главная!$N:$N,$B32) -> 0 | AE32: =SUMIFS(главная!AZ:AZ,главная!$N:$N,$B32) -> 0 | AF32: =SUMIFS(главная!BA:BA,главная!$N:$N,$B32) -> 0 | AG32: =SUMIFS(главная!BB:BB,главная!$N:$N,$B32) -> 0 | AH32: =SUMIFS(главная!BC:BC,главная!$N:$N,$B32) -> 0 | AI32: =SUMIFS(главная!BD:BD,главная!$N:$N,$B32) -> 0
B33: =главная!$N$172 -> %% поступившие на р/сч по Тарифу-4 | D33: =SUM($E33:$AJ33) -> 0 | F33: =SUMIFS(главная!AA:AA,главная!$N:$N,$B33) -> 0 | G33: =SUMIFS(главная!AB:AB,главная!$N:$N,$B33) -> 0 | H33: =SUMIFS(главная!AC:AC,главная!$N:$N,$B33) -> 0 | I33: =SUMIFS(главная!AD:AD,главная!$N:$N,$B33) -> 0 | J33: =SUMIFS(главная!AE:AE,главная!$N:$N,$B33) -> 0 | K33: =SUMIFS(главная!AF:AF,главная!$N:$N,$B33) -> 0 | L33: =SUMIFS(главная!AG:AG,главная!$N:$N,$B33) -> 0 | M33: =SUMIFS(главная!AH:AH,главная!$N:$N,$B33) -> 0 | N33: =SUMIFS(главная!AI:AI,главная!$N:$N,$B33) -> 0 | O33: =SUMIFS(главная!AJ:AJ,главная!$N:$N,$B33) -> 0 | P33: =SUMIFS(главная!AK:AK,главная!$N:$N,$B33) -> 0 | Q33: =SUMIFS(главная!AL:AL,главная!$N:$N,$B33) -> 0 | R33: =SUMIFS(главная!AM:AM,главная!$N:$N,$B33) -> 0 | S33: =SUMIFS(главная!AN:AN,главная!$N:$N,$B33) -> 0 | T33: =SUMIFS(главная!AO:AO,главная!$N:$N,$B33) -> 0 | U33: =SUMIFS(главная!AP:AP,главная!$N:$N,$B33) -> 0 | V33: =SUMIFS(главная!AQ:AQ,главная!$N:$N,$B33) -> 0 | W33: =SUMIFS(главная!AR:AR,главная!$N:$N,$B33) -> 0 | X33: =SUMIFS(главная!AS:AS,главная!$N:$N,$B33) -> 0 | Y33: =SUMIFS(главная!AT:AT,главная!$N:$N,$B33) -> 0 | Z33: =SUMIFS(главная!AU:AU,главная!$N:$N,$B33) -> 0 | AA33: =SUMIFS(главная!AV:AV,главная!$N:$N,$B33) -> 0 | AB33: =SUMIFS(главная!AW:AW,главная!$N:$N,$B33) -> 0 | AC33: =SUMIFS(главная!AX:AX,главная!$N:$N,$B33) -> 0 | AD33: =SUMIFS(главная!AY:AY,главная!$N:$N,$B33) -> 0 | AE33: =SUMIFS(главная!AZ:AZ,главная!$N:$N,$B33) -> 0 | AF33: =SUMIFS(главная!BA:BA,главная!$N:$N,$B33) -> 0 | AG33: =SUMIFS(главная!BB:BB,главная!$N:$N,$B33) -> 0 | AH33: =SUMIFS(главная!BC:BC,главная!$N:$N,$B33) -> 0 | AI33: =SUMIFS(главная!BD:BD,главная!$N:$N,$B33) -> 0
B34: =главная!$I$45 -> Размер возвратов займов за период | D34: =SUM($E34:$AJ34) -> 0 | F34: =SUMIFS(главная!AA:AA,главная!$I:$I,$B34) -> 0 | G34: =SUMIFS(главная!AB:AB,главная!$I:$I,$B34) -> 0 | H34: =SUMIFS(главная!AC:AC,главная!$I:$I,$B34) -> 0 | I34: =SUMIFS(главная!AD:AD,главная!$I:$I,$B34) -> 0 | J34: =SUMIFS(главная!AE:AE,главная!$I:$I,$B34) -> 0 | K34: =SUMIFS(главная!AF:AF,главная!$I:$I,$B34) -> 0 | L34: =SUMIFS(главная!AG:AG,главная!$I:$I,$B34) -> 0 | M34: =SUMIFS(главная!AH:AH,главная!$I:$I,$B34) -> 0 | N34: =SUMIFS(главная!AI:AI,главная!$I:$I,$B34) -> 0 | O34: =SUMIFS(главная!AJ:AJ,главная!$I:$I,$B34) -> 0 | P34: =SUMIFS(главная!AK:AK,главная!$I:$I,$B34) -> 0 | Q34: =SUMIFS(главная!AL:AL,главная!$I:$I,$B34) -> 0 | R34: =SUMIFS(главная!AM:AM,главная!$I:$I,$B34) -> 0 | S34: =SUMIFS(главная!AN:AN,главная!$I:$I,$B34) -> 0 | T34: =SUMIFS(главная!AO:AO,главная!$I:$I,$B34) -> 0 | U34: =SUMIFS(главная!AP:AP,главная!$I:$I,$B34) -> 0 | V34: =SUMIFS(главная!AQ:AQ,главная!$I:$I,$B34) -> 0 | W34: =SUMIFS(главная!AR:AR,главная!$I:$I,$B34) -> 0 | X34: =SUMIFS(главная!AS:AS,главная!$I:$I,$B34) -> 0 | Y34: =SUMIFS(главная!AT:AT,главная!$I:$I,$B34) -> 0 | Z34: =SUMIFS(главная!AU:AU,главная!$I:$I,$B34) -> 0 | AA34: =SUMIFS(главная!AV:AV,главная!$I:$I,$B34) -> 0 | AB34: =SUMIFS(главная!AW:AW,главная!$I:$I,$B34) -> 0 | AC34: =SUMIFS(главная!AX:AX,главная!$I:$I,$B34) -> 0 | AD34: =SUMIFS(главная!AY:AY,главная!$I:$I,$B34) -> 0 | AE34: =SUMIFS(главная!AZ:AZ,главная!$I:$I,$B34) -> 0 | AF34: =SUMIFS(главная!BA:BA,главная!$I:$I,$B34) -> 0 | AG34: =SUMIFS(главная!BB:BB,главная!$I:$I,$B34) -> 0 | AH34: =SUMIFS(главная!BC:BC,главная!$I:$I,$B34) -> 0 | AI34: =SUMIFS(главная!BD:BD,главная!$I:$I,$B34) -> 0
B35: =главная!$I$37 -> Размер выданных займов за период | D35: =SUM($E35:$AJ35) -> 0 | F35: =SUMIFS(главная!AA:AA,главная!$I:$I,$B35) -> 0 | G35: =SUMIFS(главная!AB:AB,главная!$I:$I,$B35) -> 0 | H35: =SUMIFS(главная!AC:AC,главная!$I:$I,$B35) -> 0 | I35: =SUMIFS(главная!AD:AD,главная!$I:$I,$B35) -> 0 | J35: =SUMIFS(главная!AE:AE,главная!$I:$I,$B35) -> 0 | K35: =SUMIFS(главная!AF:AF,главная!$I:$I,$B35) -> 0 | L35: =SUMIFS(главная!AG:AG,главная!$I:$I,$B35) -> 0 | M35: =SUMIFS(главная!AH:AH,главная!$I:$I,$B35) -> 0 | N35: =SUMIFS(главная!AI:AI,главная!$I:$I,$B35) -> 0 | O35: =SUMIFS(главная!AJ:AJ,главная!$I:$I,$B35) -> 0 | P35: =SUMIFS(главная!AK:AK,главная!$I:$I,$B35) -> 0 | Q35: =SUMIFS(главная!AL:AL,главная!$I:$I,$B35) -> 0 | R35: =SUMIFS(главная!AM:AM,главная!$I:$I,$B35) -> 0 | S35: =SUMIFS(главная!AN:AN,главная!$I:$I,$B35) -> 0 | T35: =SUMIFS(главная!AO:AO,главная!$I:$I,$B35) -> 0 | U35: =SUMIFS(главная!AP:AP,главная!$I:$I,$B35) -> 0 | V35: =SUMIFS(главная!AQ:AQ,главная!$I:$I,$B35) -> 0 | W35: =SUMIFS(главная!AR:AR,главная!$I:$I,$B35) -> 0 | X35: =SUMIFS(главная!AS:AS,главная!$I:$I,$B35) -> 0 | Y35: =SUMIFS(главная!AT:AT,главная!$I:$I,$B35) -> 0 | Z35: =SUMIFS(главная!AU:AU,главная!$I:$I,$B35) -> 0 | AA35: =SUMIFS(главная!AV:AV,главная!$I:$I,$B35) -> 0 | AB35: =SUMIFS(главная!AW:AW,главная!$I:$I,$B35) -> 0 | AC35: =SUMIFS(главная!AX:AX,главная!$I:$I,$B35) -> 0 | AD35: =SUMIFS(главная!AY:AY,главная!$I:$I,$B35) -> 0 | AE35: =SUMIFS(главная!AZ:AZ,главная!$I:$I,$B35) -> 0 | AF35: =SUMIFS(главная!BA:BA,главная!$I:$I,$B35) -> 0 | AG35: =SUMIFS(главная!BB:BB,главная!$I:$I,$B35) -> 0 | AH35: =SUMIFS(главная!BC:BC,главная!$I:$I,$B35) -> 0 | AI35: =SUMIFS(главная!BD:BD,главная!$I:$I,$B35) -> 0
B36: =главная!$H$347 -> Cash Flow | D36: =SUM($E36:$AJ36) -> 0 | F36: =SUMIFS(главная!AA:AA,главная!$H:$H,$B36,главная!$N:$N,"итого") -> 0 | G36: =SUMIFS(главная!AB:AB,главная!$H:$H,$B36,главная!$N:$N,"итого") -> 0 | H36: =SUMIFS(главная!AC:AC,главная!$H:$H,$B36,главная!$N:$N,"итого") -> 0 | I36: =SUMIFS(главная!AD:AD,главная!$H:$H,$B36,главная!$N:$N,"итого") -> 0 | J36: =SUMIFS(главная!AE:AE,главная!$H:$H,$B36,главная!$N:$N,"итого") -> 0 | K36: =SUMIFS(главная!AF:AF,главная!$H:$H,$B36,главная!$N:$N,"итого") -> 0 | L36: =SUMIFS(главная!AG:AG,главная!$H:$H,$B36,главная!$N:$N,"итого") -> 0 | M36: =SUMIFS(главная!AH:AH,главная!$H:$H,$B36,главная!$N:$N,"итого") -> 0 | N36: =SUMIFS(главная!AI:AI,главная!$H:$H,$B36,главная!$N:$N,"итого") -> 0 | O36: =SUMIFS(главная!AJ:AJ,главная!$H:$H,$B36,главная!$N:$N,"итого") -> 0 | P36: =SUMIFS(главная!AK:AK,главная!$H:$H,$B36,главная!$N:$N,"итого") -> 0 | Q36: =SUMIFS(главная!AL:AL,главная!$H:$H,$B36,главная!$N:$N,"итого") -> 0 | R36: =SUMIFS(главная!AM:AM,главная!$H:$H,$B36,главная!$N:$N,"итого") -> 0 | S36: =SUMIFS(главная!AN:AN,главная!$H:$H,$B36,главная!$N:$N,"итого") -> 0 | T36: =SUMIFS(главная!AO:AO,главная!$H:$H,$B36,главная!$N:$N,"итого") -> 0 | U36: =SUMIFS(главная!AP:AP,главная!$H:$H,$B36,главная!$N:$N,"итого") -> 0 | V36: =SUMIFS(главная!AQ:AQ,главная!$H:$H,$B36,главная!$N:$N,"итого") -> 0 | W36: =SUMIFS(главная!AR:AR,главная!$H:$H,$B36,главная!$N:$N,"итого") -> 0 | X36: =SUMIFS(главная!AS:AS,главная!$H:$H,$B36,главная!$N:$N,"итого") -> 0 | Y36: =SUMIFS(главная!AT:AT,главная!$H:$H,$B36,главная!$N:$N,"итого") -> 0 | Z36: =SUMIFS(главная!AU:AU,главная!$H:$H,$B36,главная!$N:$N,"итого") -> 0 | AA36: =SUMIFS(главная!AV:AV,главная!$H:$H,$B36,главная!$N:$N,"итого") -> 0 | AB36: =SUMIFS(главная!AW:AW,главная!$H:$H,$B36,главная!$N:$N,"итого") -> 0 | AC36: =SUMIFS(главная!AX:AX,главная!$H:$H,$B36,главная!$N:$N,"итого") -> 0 | AD36: =SUMIFS(главная!AY:AY,главная!$H:$H,$B36,главная!$N:$N,"итого") -> 0 | AE36: =SUMIFS(главная!AZ:AZ,главная!$H:$H,$B36,главная!$N:$N,"итого") -> 0 | AF36: =SUMIFS(главная!BA:BA,главная!$H:$H,$B36,главная!$N:$N,"итого") -> 0 | AG36: =SUMIFS(главная!BB:BB,главная!$H:$H,$B36,главная!$N:$N,"итого") -> 0 | AH36: =SUMIFS(главная!BC:BC,главная!$H:$H,$B36,главная!$N:$N,"итого") -> 0 | AI36: =SUMIFS(главная!BD:BD,главная!$H:$H,$B36,главная!$N:$N,"итого") -> 0
B38: Ключевые показатели инвестора
B39: =главная!$H$359 -> Требуемый объем поступлений инвестиций | D39: =SUM($E39:$AJ39) -> 0 | F39: =SUMIFS(главная!AA:AA,главная!$H:$H,$B39,главная!$N:$N,"итого") -> 0 | G39: =SUMIFS(главная!AB:AB,главная!$H:$H,$B39,главная!$N:$N,"итого") -> 0 | H39: =SUMIFS(главная!AC:AC,главная!$H:$H,$B39,главная!$N:$N,"итого") -> 0 | I39: =SUMIFS(главная!AD:AD,главная!$H:$H,$B39,главная!$N:$N,"итого") -> 0 | J39: =SUMIFS(главная!AE:AE,главная!$H:$H,$B39,главная!$N:$N,"итого") -> 0 | K39: =SUMIFS(главная!AF:AF,главная!$H:$H,$B39,главная!$N:$N,"итого") -> 0 | L39: =SUMIFS(главная!AG:AG,главная!$H:$H,$B39,главная!$N:$N,"итого") -> 0 | M39: =SUMIFS(главная!AH:AH,главная!$H:$H,$B39,главная!$N:$N,"итого") -> 0 | N39: =SUMIFS(главная!AI:AI,главная!$H:$H,$B39,главная!$N:$N,"итого") -> 0 | O39: =SUMIFS(главная!AJ:AJ,главная!$H:$H,$B39,главная!$N:$N,"итого") -> 0 | P39: =SUMIFS(главная!AK:AK,главная!$H:$H,$B39,главная!$N:$N,"итого") -> 0 | Q39: =SUMIFS(главная!AL:AL,главная!$H:$H,$B39,главная!$N:$N,"итого") -> 0 | R39: =SUMIFS(главная!AM:AM,главная!$H:$H,$B39,главная!$N:$N,"итого") -> 0 | S39: =SUMIFS(главная!AN:AN,главная!$H:$H,$B39,главная!$N:$N,"итого") -> 0 | T39: =SUMIFS(главная!AO:AO,главная!$H:$H,$B39,главная!$N:$N,"итого") -> 0 | U39: =SUMIFS(главная!AP:AP,главная!$H:$H,$B39,главная!$N:$N,"итого") -> 0 | V39: =SUMIFS(главная!AQ:AQ,главная!$H:$H,$B39,главная!$N:$N,"итого") -> 0 | W39: =SUMIFS(главная!AR:AR,главная!$H:$H,$B39,главная!$N:$N,"итого") -> 0 | X39: =SUMIFS(главная!AS:AS,главная!$H:$H,$B39,главная!$N:$N,"итого") -> 0 | Y39: =SUMIFS(главная!AT:AT,главная!$H:$H,$B39,главная!$N:$N,"итого") -> 0 | Z39: =SUMIFS(главная!AU:AU,главная!$H:$H,$B39,главная!$N:$N,"итого") -> 0 | AA39: =SUMIFS(главная!AV:AV,главная!$H:$H,$B39,главная!$N:$N,"итого") -> 0 | AB39: =SUMIFS(главная!AW:AW,главная!$H:$H,$B39,главная!$N:$N,"итого") -> 0 | AC39: =SUMIFS(главная!AX:AX,главная!$H:$H,$B39,главная!$N:$N,"итого") -> 0 | AD39: =SUMIFS(главная!AY:AY,главная!$H:$H,$B39,главная!$N:$N,"итого") -> 0 | AE39: =SUMIFS(главная!AZ:AZ,главная!$H:$H,$B39,главная!$N:$N,"итого") -> 0 | AF39: =SUMIFS(главная!BA:BA,главная!$H:$H,$B39,главная!$N:$N,"итого") -> 0 | AG39: =SUMIFS(главная!BB:BB,главная!$H:$H,$B39,главная!$N:$N,"итого") -> 0 | AH39: =SUMIFS(главная!BC:BC,главная!$H:$H,$B39,главная!$N:$N,"итого") -> 0 | AI39: =SUMIFS(главная!BD:BD,главная!$H:$H,$B39,главная!$N:$N,"итого") -> 0
B40: Стоимость привлечения инвестиций, %г | C40: * | D40: 0.18
B41: =главная!$H$367 -> %% по инвестициям за период | D41: =SUM($E41:$AJ41) -> 0 | F41: =SUMIFS(главная!AA:AA,главная!$H:$H,$B41,главная!$N:$N,"итого") -> 0 | G41: =SUMIFS(главная!AB:AB,главная!$H:$H,$B41,главная!$N:$N,"итого") -> 0 | H41: =SUMIFS(главная!AC:AC,главная!$H:$H,$B41,главная!$N:$N,"итого") -> 0 | I41: =SUMIFS(главная!AD:AD,главная!$H:$H,$B41,главная!$N:$N,"итого") -> 0 | J41: =SUMIFS(главная!AE:AE,главная!$H:$H,$B41,главная!$N:$N,"итого") -> 0 | K41: =SUMIFS(главная!AF:AF,главная!$H:$H,$B41,главная!$N:$N,"итого") -> 0 | L41: =SUMIFS(главная!AG:AG,главная!$H:$H,$B41,главная!$N:$N,"итого") -> 0 | M41: =SUMIFS(главная!AH:AH,главная!$H:$H,$B41,главная!$N:$N,"итого") -> 0 | N41: =SUMIFS(главная!AI:AI,главная!$H:$H,$B41,главная!$N:$N,"итого") -> 0 | O41: =SUMIFS(главная!AJ:AJ,главная!$H:$H,$B41,главная!$N:$N,"итого") -> 0 | P41: =SUMIFS(главная!AK:AK,главная!$H:$H,$B41,главная!$N:$N,"итого") -> 0 | Q41: =SUMIFS(главная!AL:AL,главная!$H:$H,$B41,главная!$N:$N,"итого") -> 0 | R41: =SUMIFS(главная!AM:AM,главная!$H:$H,$B41,главная!$N:$N,"итого") -> 0 | S41: =SUMIFS(главная!AN:AN,главная!$H:$H,$B41,главная!$N:$N,"итого") -> 0 | T41: =SUMIFS(главная!AO:AO,главная!$H:$H,$B41,главная!$N:$N,"итого") -> 0 | U41: =SUMIFS(главная!AP:AP,главная!$H:$H,$B41,главная!$N:$N,"итого") -> 0 | V41: =SUMIFS(главная!AQ:AQ,главная!$H:$H,$B41,главная!$N:$N,"итого") -> 0 | W41: =SUMIFS(главная!AR:AR,главная!$H:$H,$B41,главная!$N:$N,"итого") -> 0 | X41: =SUMIFS(главная!AS:AS,главная!$H:$H,$B41,главная!$N:$N,"итого") -> 0 | Y41: =SUMIFS(главная!AT:AT,главная!$H:$H,$B41,главная!$N:$N,"итого") -> 0 | Z41: =SUMIFS(главная!AU:AU,главная!$H:$H,$B41,главная!$N:$N,"итого") -> 0 | AA41: =SUMIFS(главная!AV:AV,главная!$H:$H,$B41,главная!$N:$N,"итого") -> 0 | AB41: =SUMIFS(главная!AW:AW,главная!$H:$H,$B41,главная!$N:$N,"итого") -> 0 | AC41: =SUMIFS(главная!AX:AX,главная!$H:$H,$B41,главная!$N:$N,"итого") -> 0 | AD41: =SUMIFS(главная!AY:AY,главная!$H:$H,$B41,главная!$N:$N,"итого") -> 0 | AE41: =SUMIFS(главная!AZ:AZ,главная!$H:$H,$B41,главная!$N:$N,"итого") -> 0 | AF41: =SUMIFS(главная!BA:BA,главная!$H:$H,$B41,главная!$N:$N,"итого") -> 0 | AG41: =SUMIFS(главная!BB:BB,главная!$H:$H,$B41,главная!$N:$N,"итого") -> 0 | AH41: =SUMIFS(главная!BC:BC,главная!$H:$H,$B41,главная!$N:$N,"итого") -> 0 | AI41: =SUMIFS(главная!BD:BD,главная!$H:$H,$B41,главная!$N:$N,"итого") -> 0

Sheet главная
D1: Финмодель Бизнес-Проекта | AA1: 1 | AB1: =AA1+1 -> 2 | AC1: =AB1+1 -> 3 | AD1: =AC1+1 -> 4 | AE1: =AD1+1 -> 5 | AF1: =AE1+1 -> 6 | AG1: =AF1+1 -> 7 | AH1: =AG1+1 -> 8 | AI1: =AH1+1 -> 9 | ... BD1: =BC1+1 -> 30
D2: Бизнес-Проект: Микро кредитная компания, B2B-займы
W5: +7(985)201-6607 | AA5: 1-ый месяц
E6: комментарий | H6: показатель | N6: детализация | Q6: ед.изм. | T6: значение | W6: итого | Z6: старт | AA6: =IF(OR($T$9="",$T$9=0),"",$T$9) | AB6: =IF(AA6="","",IF(AA$1-$AA$1+1>=$T$11,"",EOMONTH(AA6,0)+1)) | AC6: =IF(AB6="","",IF(AB$1-$AA$1+1>=$T$11,"",EOMONTH(AB6,0)+1)) | AD6: =IF(AC6="","",IF(AC$1-$AA$1+1>=$T$11,"",EOMONTH(AC6,0)+1)) | AE6: =IF(AD6="","",IF(AD$1-$AA$1+1>=$T$11,"",EOMONTH(AD6,0)+1)) | AF6: =IF(AE6="","",IF(AE$1-$AA$1+1>=$T$11,"",EOMONTH(AE6,0)+1)) | AG6: =IF(AF6="","",IF(AF$1-$AA$1+1>=$T$11,"",EOMONTH(AF6,0)+1)) | AH6: =IF(AG6="","",IF(AG$1-$AA$1+1>=$T$11,"",EOMONTH(AG6,0)+1)) | AI6: =IF(AH6="","",IF(AH$1-$AA$1+1>=$T$11,"",EOMONTH(AH6,0)+1)) | ... BD6: =IF(BC6="","",IF(BC$1-$AA$1+1>=$T$11,"",EOMONTH(BC6,0)+1))
G9: * | H9: первый месяц проекта | Q9: месяц | S9: *
G11: * | H11: горизонт расчетов | Q11: кол-во мес | S11: *
F13: 0
